BEGIN:VCALENDAR
VERSION:2.0
PRODID:-//ChamberMaster//Event Calendar 2.0//EN
METHOD:PUBLISH
X-PUBLISHED-TTL:P3D
REFRESH-INTERVAL:P3D
CALSCALE:GREGORIAN
BEGIN:VEVENT
DTSTART:20250521T160000Z
DTEND:20250521T173000Z
X-MICROSOFT-CDO-ALLDAYEVENT:FALSE
SUMMARY:Power Lunch and Learn Committee Meeting
DESCRIPTION:Join us for our upcoming committee meeting where we'll review the success of the May Power Lunch event\, recap key takeaways from the April 30 Lunch & Learn\, and finalize plans for our June event including speaker selection\, venue booking\, and pricing structure. We'll also discuss ideas for July and August programming\, address ongoing social media and registration tasks\, and assign action items. Come prepared to collaborate\, contribute ideas\, and help shape the upcoming calendar.
X-ALT-DESC;FMTTYPE=text/html:<h2><!--StartFragment--><span data-olk-copy-source="MessageBody" style="border-bottom: 1px solid rgb(204\, 204\, 204)\;">Join us for our upcoming committee meeting where we&rsquo\;ll review the success of the May Power Lunch event\, recap key takeaways from the April 30 Lunch &amp\; Learn\, and finalize plans for our June event&mdash\;including speaker selection\, venue booking\, and pricing structure. We&rsquo\;ll also discuss ideas for July and August programming\, address ongoing social media and registration tasks\, and assign action items. Come prepared to collaborate\, contribute ideas\, and help shape the upcoming calendar.</span><!--EndFragment--></h2>\n
LOCATION:Noble Crust 11618 N. Dale Mabry Hwy. Tampa\, FL 33618
UID:e.9368.790191
SEQUENCE:3
DTSTAMP:20260420T205059Z
URL:https://business.usecaba.com/events/details/power-lunch-and-learn-committee-meeting-790191
END:VEVENT

END:VCALENDAR
