BEGIN:VCALENDAR
VERSION:2.0
PRODID:-//ChamberMaster//Event Calendar 2.0//EN
METHOD:PUBLISH
X-PUBLISHED-TTL:P3D
REFRESH-INTERVAL:P3D
CALSCALE:GREGORIAN
BEGIN:VEVENT
DTSTART:20250312T160000Z
DTEND:20250312T174500Z
X-MICROSOFT-CDO-ALLDAYEVENT:FALSE
SUMMARY:Power Lunch and Learn Committee Meeting
DESCRIPTION:Get involved!  Join us as we review the list of professions/topics discussed at our prior meeting to narrow down what we would like to have at our Lunch & Learn events\, reviewing the format for the upcoming Power Lunch event\, and brainstorming locations for future events. Open networking and lunch from 12-12:30 PM with meeting from 12:30-1:30PM.
X-ALT-DESC;FMTTYPE=text/html:<h2><span style="font-size:18px\;">Get involved!&nbsp\; Join us as we review&nbsp\;</span><span data-olk-copy-source="MessageBody" style="border-bottom: 1px solid rgb(204\, 204\, 204)\;">the list of professions/topics discussed at our prior meeting to narrow down what we would like to have at our Lunch &amp\; Learn events\, reviewing the format for the upcoming Power Lunch event\, and brainstorming locations for future events. Open networking and lunch from 12-12:30 PM with meeting from 12:30-1:30PM.</span><!--EndFragment--><span style="font-size:18px\;">&nbsp\;</span></h2>\n
LOCATION:McAllister's Deli 14444 N. Dale Mabry Hwy. Tampa\, FL 33618
UID:e.9368.790162
SEQUENCE:3
DTSTAMP:20260421T000619Z
URL:https://business.usecaba.com/events/details/power-lunch-and-learn-committee-meeting-790162
END:VEVENT

END:VCALENDAR
