BEGIN:VCALENDAR
VERSION:2.0
PRODID:-//ChamberMaster//Event Calendar 2.0//EN
METHOD:PUBLISH
X-PUBLISHED-TTL:P3D
REFRESH-INTERVAL:P3D
CALSCALE:GREGORIAN
BEGIN:VEVENT
DTSTART:20260429T154500Z
DTEND:20260429T170000Z
X-MICROSOFT-CDO-ALLDAYEVENT:FALSE
SUMMARY:Community Outreach Committee Meeting at Maple Street Biscuit Cafe
DESCRIPTION:You are invited to attend the community outreach committee meeting!  Discussion regarding upcoming Teacher's Breakfast.  Come with ideas on how to connect CABA members to the community!
X-ALT-DESC;FMTTYPE=text/html:<span style="font-size:18px\;"><span style="font-family:arial\;">You are invited to attend the community outreach committee meeting!&nbsp\; Discussion regarding upcoming Teacher&#39\;s Breakfast.&nbsp\; Come with ideas on how to connect CABA members to the community!&nbsp\;&nbsp\;</span></span>
LOCATION:Maple Street Biscuit Cafe 13028 N. Dale Mabry Hwy. Tampa\, FL 33618
UID:e.9368.790358
SEQUENCE:3
DTSTAMP:20260424T185830Z
URL:https://business.usecaba.com/events/details/community-outreach-committee-meeting-at-maple-street-biscuit-cafe-790358
END:VEVENT

END:VCALENDAR
