BEGIN:VCALENDAR
VERSION:2.0
PRODID:-//ChamberMaster//Event Calendar 2.0//EN
METHOD:PUBLISH
X-PUBLISHED-TTL:P3D
REFRESH-INTERVAL:P3D
CALSCALE:GREGORIAN
BEGIN:VEVENT
DTSTART:20190116T140000Z
DTEND:20190116T150000Z
X-MICROSOFT-CDO-ALLDAYEVENT:FALSE
SUMMARY:Community Outreach Committee Meeting at Bank OZK
DESCRIPTION:
X-ALT-DESC;FMTTYPE=text/html:
LOCATION:Bank OZK 14799 N. Dale Mabry Hwy Tampa\, FL 33618
UID:e.9368.787049
SEQUENCE:3
DTSTAMP:20260419T135332Z
URL:https://business.usecaba.com/events/details/community-outreach-committee-meeting-at-bank-ozk-01-16-2019-787049
END:VEVENT

END:VCALENDAR
