BEGIN:VCALENDAR
VERSION:2.0
PRODID:-//ChamberMaster//Event Calendar 2.0//EN
METHOD:PUBLISH
X-PUBLISHED-TTL:P3D
REFRESH-INTERVAL:P3D
CALSCALE:GREGORIAN
BEGIN:VEVENT
DTSTART:20250312T213000Z
DTEND:20250312T230000Z
X-MICROSOFT-CDO-ALLDAYEVENT:FALSE
SUMMARY:CABA's Celebration of the Feast of St. Patrick After 5 Lane Family Wellness
DESCRIPTION:Celebrating the Feast of St. Patrick!\nJoin host\, Dr. Tommy Lane at this fun and much anticipated networking which provides a perfect ending to your Wednesday workday when you will meet business owners and CABA members for B2B networking. Refreshments will be provided.\n\nThank you to our cohosts Jeff Fox (FoxMarketPlace.com)\, Scott Holcomb (Accurate Employer Solutions\, and Lee Pierson (The Bank of Tampa).
X-ALT-DESC;FMTTYPE=text/html:<div style="text-align: center\;"><span style="font-size: 18px\;">Celebrating the Feast of St. Patrick!</span></div>\n<span style="font-size:18px\;">Join host\, Dr. Tommy Lane at this fun and much anticipated networking which provides a perfect ending to your Wednesday workday when you will meet business owners and CABA members for B2B networking.</span><font face="arial"><span style="font-size: 18px\; white-space-collapse: preserve\;"> Refreshments will be provided.<br />\nThank you to our cohosts Jeff Fox (FoxMarketPlace.com)\, Scott Holcomb (Accurate Employer Solutions\, and Lee Pierson (The Bank of Tampa).</span></font>
LOCATION:Lane Family Wellness 1323 W. Fletcher Avenue Tampa\, FL 33612
UID:e.9368.790107
SEQUENCE:3
DTSTAMP:20260421T042802Z
URL:https://business.usecaba.com/events/details/caba-s-celebration-of-the-feast-of-st-patrick-after-5-lane-family-wellness-790107
END:VEVENT

END:VCALENDAR
