BEGIN:VCALENDAR
VERSION:2.0
PRODID:-//ChamberMaster//Event Calendar 2.0//EN
METHOD:PUBLISH
X-PUBLISHED-TTL:P3D
REFRESH-INTERVAL:P3D
CALSCALE:GREGORIAN
BEGIN:VEVENT
DTSTART:20260318T113000Z
DTEND:20260318T130000Z
X-MICROSOFT-CDO-ALLDAYEVENT:FALSE
SUMMARY:CABA Coffee by Spectrum Business/Jeff Dean at Everglazed Donuts
DESCRIPTION:Join us and host Jeff Dean for CABA's coffee networking when CABA members will engage in B2B networking with guests over snacks and coffee.  Guests are welcome to visit a CABA event twice before being asked to join.  Join us and learn why we say\, "CABA is the best business address in Tampa Bay." Thank you to our cohost Kris Knox (Everglazed Donuts).
X-ALT-DESC;FMTTYPE=text/html:<span style="font-size: 18px\; font-family: Arial\; white-space: pre-wrap\;">Join us and host Jeff Dean for CABA&#39\;s coffee networking </span><span style="font-size: 18px\; font-family: Arial\; white-space: pre-wrap\;">when CABA members will engage in B2B networking with </span><span style="font-size: 18px\; font-family: Arial\; white-space: pre-wrap\;">guests over snacks and coffee.&nbsp\; Guests are welcome to visit a CABA event twice before being asked to join.&nbsp\; Join us </span><span style="font-size: 18px\; font-family: Arial\; white-space: pre-wrap\;">and learn why we say\, &quot\;CABA is the best business address in Tampa Bay.&quot\; Thank you to our cohost Kris Knox (Everglazed Donuts).</span><br />\n&nbsp\;
LOCATION:Everglazed Donuts 14777 N. Dale Mabry Hwy. Tampa\, FL 33618
UID:e.9368.790341
SEQUENCE:3
DTSTAMP:20260420T013913Z
URL:https://business.usecaba.com/events/details/caba-coffee-by-spectrum-business-jeff-dean-at-everglazed-donuts-790341
END:VEVENT

END:VCALENDAR
