BEGIN:VCALENDAR
VERSION:2.0
PRODID:-//ChamberMaster//Event Calendar 2.0//EN
METHOD:PUBLISH
X-PUBLISHED-TTL:P3D
REFRESH-INTERVAL:P3D
CALSCALE:GREGORIAN
BEGIN:VEVENT
DTSTART:20250305T123000Z
DTEND:20250305T140000Z
X-MICROSOFT-CDO-ALLDAYEVENT:FALSE
SUMMARY:CABA Coffee at Lutz Whistle Stop Depot
DESCRIPTION:Come join host Shira Martin at this CABA coffee networking!  This is a great way to start your day making new connections and enjoy the coffee and refreshments provided.\n\nThank you to our cohost\, Michelle Chamo (The Glass Depot).
X-ALT-DESC;FMTTYPE=text/html:<span style="font-family:arial\;"><span style="font-size:18px\;">Come join host Shira Martin at this CABA coffee networking!&nbsp\; This is a great way to start your day making new connections and enjoy the coffee and refreshments provided.<br />\nThank you to our cohost\, Michelle Chamo (The Glass Depot).</span></span>
LOCATION:Lutz Whistle Stop Depot 100 4th Ave. NW Lutz\, FL 33548
UID:e.9368.790108
SEQUENCE:3
DTSTAMP:20260421T013045Z
URL:https://business.usecaba.com/events/details/caba-coffee-at-lutz-whistle-stop-depot-790108
END:VEVENT

END:VCALENDAR
