BEGIN:VCALENDAR
VERSION:2.0
PRODID:-//ChamberMaster//Event Calendar 2.0//EN
METHOD:PUBLISH
X-PUBLISHED-TTL:P3D
REFRESH-INTERVAL:P3D
CALSCALE:GREGORIAN
BEGIN:VEVENT
DTSTART:20211208T123000Z
DTEND:20211208T140000Z
X-MICROSOFT-CDO-ALLDAYEVENT:FALSE
SUMMARY:CABA Coffee at Image 360
DESCRIPTION:Start your morning with a FREE CABA Coffee networking from 7:30am - 9:00am.\n\n\n\nEat Drink & Be Merry with us! Merry Mosas\, Cup-o-Cheer\, and a Bloody Mary bar! Ugly sweater contest\, giveaways\, donut wall and much more!!\n\nWear your best Ugly Christmas Sweater! See you there!\n\n\n\nThank you to our co-host:\n\nRob Cunningham of ADT Security
X-ALT-DESC;FMTTYPE=text/html:<span style="font-size:18px\;"><span id="docs-internal-guid-ab0d7040-7fff-f9ca-3b8c-9a5fd6189235"><span style="font-family: Arial\; color: rgb(0\, 0\, 0)\; background-color: transparent\; font-variant-numeric: normal\; font-variant-east-asian: normal\; vertical-align: baseline\; white-space: pre-wrap\;">Start your morning with a FREE CABA Coffee networking from 7:30am - 9:00am.</span></span><br />\n<br />\nEat Drink &amp\; Be Merry with us! Merry Mosas\, Cup-o-Cheer\, and a Bloody Mary bar! Ugly sweater contest\, giveaways\, donut wall and much more!!<br />\nWear your best Ugly Christmas Sweater! See you there!</span><br />\n<br />\n<span style="font-size:18px\;"><span><span style="font-family: Arial\; color: rgb(0\, 0\, 0)\; background-color: transparent\; font-variant-numeric: normal\; font-variant-east-asian: normal\; vertical-align: baseline\; white-space: pre-wrap\;">Thank you to our co-host:</span></span><br />\nRob Cunningham of ADT Security</span>
LOCATION:Image 360 8611 N Dale Mabry Hwy Tampa\, FL 33614
UID:e.9368.789457
SEQUENCE:3
DTSTAMP:20260424T091401Z
URL:https://business.usecaba.com/events/details/caba-coffee-at-image-360-789457
END:VEVENT

END:VCALENDAR
