BEGIN:VCALENDAR
VERSION:2.0
PRODID:-//ChamberMaster//Event Calendar 2.0//EN
METHOD:PUBLISH
X-PUBLISHED-TTL:P3D
REFRESH-INTERVAL:P3D
CALSCALE:GREGORIAN
BEGIN:VEVENT
DTSTART:20220628T200000Z
DTEND:20220628T220000Z
X-MICROSOFT-CDO-ALLDAYEVENT:FALSE
SUMMARY:CABA Board of Directors Meeting
DESCRIPTION:If you wish to attend the BOD meeting\, please email Admin at caba@usecaba.com to request the meeting information. \n\nOur next BOD meeting is next Tuesday\, June 28th at 4pm.  It will be held at AdventHealth Carrollwood. 7171 N. Dale Mabry Hwy\, Tampa\, FL.  Enter the lobby at the Main entrance\, tell person at desk you are there for a meeting in the BoardRoom.
X-ALT-DESC;FMTTYPE=text/html:<span style="font-size:18px\;">If you wish to attend the BOD meeting\, please email Admin at caba@usecaba.com to request the meeting information.&nbsp\;</span><br />\n<span style="color: rgb(0\, 0\, 0)\; font-family: Arial\, Helvetica\, sans-serif\; font-size: 13.3333px\;"><span style="font-size:18px\;">Our next BOD meeting is next Tuesday\, June 28th at 4pm.&nbsp\; It will be held at AdventHealth Carrollwood. 7171 N. Dale Mabry Hwy\, Tampa\, FL.&nbsp\; Enter the lobby at the Main entrance\, tell person at desk you are there for a meeting in the BoardRoom</span>.&nbsp\;</span>
LOCATION:AdventHealth Carrollwood 7171 N. Dale Mabry Highway Tampa\, FL 33614
UID:e.9368.789776
SEQUENCE:3
DTSTAMP:20260423T221918Z
URL:https://business.usecaba.com/events/details/caba-board-of-directors-meeting-789776
END:VEVENT

END:VCALENDAR
