BEGIN:VCALENDAR
VERSION:2.0
PRODID:-//ChamberMaster//Event Calendar 2.0//EN
METHOD:PUBLISH
X-PUBLISHED-TTL:P3D
REFRESH-INTERVAL:P3D
CALSCALE:GREGORIAN
BEGIN:VEVENT
DTSTART:20250326T213000Z
DTEND:20250326T230000Z
X-MICROSOFT-CDO-ALLDAYEVENT:FALSE
SUMMARY:CABA After 5 Pickleball Slam presented by Pickle Man\, Inc.
DESCRIPTION:Alex Wadsworth will be hosting a mini tournament at this pickleball SMASH CABA After 5. Come to network at this outdoor event (no alcohol will be provided). A perfect ending to your Wednesday workday when you will meet business owners and CABA members for B2B networking.\n\n\n\nThank you to our co-hosts Bryan Turner (Freedom Fighters Financial)\, Yaimy Marshall (Bob Sierra Family YMCA)\, and Lisa Montero (BayFirst Financial).
X-ALT-DESC;FMTTYPE=text/html:<span style="color: rgb(0\, 0\, 0)\; font-family: Arial\; font-size: 18px\; white-space: pre-wrap\;">Alex Wadsworth will be hosting a mini tournament at this pickleball SMASH CABA After 5. Come to network at this outdoor event (no alcohol will be provided). A perfect ending to your Wednesday workday when you will meet business owners and CABA members for B2B networking.<br />\n<br />\nThank you to our co-hosts Bryan Turner (Freedom Fighters Financial)\, Yaimy Marshall (Bob Sierra Family YMCA)\, and Lisa Montero (BayFirst Financial).</span>
LOCATION:Pickle Man\, Inc. 5322 Lake Le Clare Lutz\, FL 33558
UID:e.9368.790076
SEQUENCE:3
DTSTAMP:20260420T234934Z
URL:https://business.usecaba.com/events/details/caba-after-5-pickleball-slam-presented-by-pickle-man-inc-790076
END:VEVENT

END:VCALENDAR
