BEGIN:VCALENDAR
VERSION:2.0
PRODID:-//ChamberMaster//Event Calendar 2.0//EN
METHOD:PUBLISH
X-PUBLISHED-TTL:P3D
REFRESH-INTERVAL:P3D
CALSCALE:GREGORIAN
BEGIN:VEVENT
DTSTART:20220629T213000Z
DTEND:20220629T233000Z
X-MICROSOFT-CDO-ALLDAYEVENT:FALSE
SUMMARY:CABA After 5 at Windward Wealth Management
DESCRIPTION:Are you ready to network after work? Our CABA After 5 FREE networking provides a perfect ending to your Wednesday work day\, when you will meet business owners and CABA members for B2B networking.\n\n\n\nThank you to our co-host: \n\n\n\nPrestige Business Enterprises
X-ALT-DESC;FMTTYPE=text/html:<span style="font-size:18px\;"><span id="docs-internal-guid-6cb829b5-7fff-5d4d-3802-1fd1a312e954"><span style="font-family: Arial\; color: rgb(0\, 0\, 0)\; background-color: transparent\; font-variant-numeric: normal\; font-variant-east-asian: normal\; vertical-align: baseline\; white-space: pre-wrap\;">Are you ready to network after work? Our CABA After 5 FREE networking provides a perfect ending to your Wednesday work day\, when you will meet business owners and CABA members for </span></span></span><span style="font-size:18px\;"><span><span style="font-family: Arial\; color: rgb(0\, 0\, 0)\; background-color: transparent\; font-variant-numeric: normal\; font-variant-east-asian: normal\; vertical-align: baseline\; white-space: pre-wrap\;">B2B networking.<br />\n<br />\nThank you to our co-host: </span></span><br />\n<br />\nPrestige Business Enterprises</span>
LOCATION:Windward Wealth Management 7432 Monika Manor Drive Tampa\, Florida 33625
UID:e.9368.789460
SEQUENCE:3
DTSTAMP:20260423T223316Z
URL:https://business.usecaba.com/events/details/caba-after-5-at-windward-wealth-management-789460
END:VEVENT

END:VCALENDAR
