BEGIN:VCALENDAR
VERSION:2.0
PRODID:-//ChamberMaster//Event Calendar 2.0//EN
METHOD:PUBLISH
X-PUBLISHED-TTL:P3D
REFRESH-INTERVAL:P3D
CALSCALE:GREGORIAN
BEGIN:VEVENT
DTSTART:20210414T213000Z
DTEND:20210414T230000Z
X-MICROSOFT-CDO-ALLDAYEVENT:FALSE
SUMMARY:CABA After 5 at Chicago's Best Burgers - Lutz
DESCRIPTION:Are you ready to network after work? Our CABA After 5 FREE networking provides a perfect ending to your Wednesday work day\, when you will meet business owners and CABA members for B2B networking.
X-ALT-DESC;FMTTYPE=text/html:<span style="font-size:18px\;"><span id="docs-internal-guid-6cb829b5-7fff-5d4d-3802-1fd1a312e954"><span style="font-family: Arial\; color: rgb(0\, 0\, 0)\; background-color: transparent\; font-variant-numeric: normal\; font-variant-east-asian: normal\; vertical-align: baseline\; white-space: pre-wrap\;">Are you ready to network after work? Our CABA After 5 FREE networking provides a perfect ending to your Wednesday work day\, when you will meet business owners and CABA members for B2B networking.</span></span></span>
LOCATION:Chicago's Best Burgers - Lutz 19255 N. Dale Mabry Lutz\, FL
UID:e.9368.789169
SEQUENCE:3
DTSTAMP:20260425T015127Z
URL:https://business.usecaba.com/events/details/caba-after-5-at-chicago-s-best-burgers-lutz-789169
END:VEVENT

END:VCALENDAR
